BEGIN:VCALENDAR
VERSION:2.0
PRODID:-//jEvents 2.0 for Joomla//EN
CALSCALE:GREGORIAN
METHOD:PUBLISH
BEGIN:VTIMEZONE
TZID:Europe/Tallinn
BEGIN:STANDARD
DTSTART:20250305T000000
RDATE:20250330T040000
TZOFFSETFROM:+0300
TZOFFSETTO:+0200
TZNAME:Europe/Tallinn EET
END:STANDARD
BEGIN:STANDARD
DTSTART:20251026T030000
RDATE:20260329T040000
TZOFFSETFROM:+0300
TZOFFSETTO:+0200
TZNAME:Europe/Tallinn EET
END:STANDARD
BEGIN:STANDARD
DTSTART:20261025T030000
RDATE:20270328T040000
TZOFFSETFROM:+0300
TZOFFSETTO:+0200
TZNAME:Europe/Tallinn EET
END:STANDARD
BEGIN:STANDARD
DTSTART:20271031T030000
RDATE:20280326T040000
TZOFFSETFROM:+0300
TZOFFSETTO:+0200
TZNAME:Europe/Tallinn EET
END:STANDARD
BEGIN:STANDARD
DTSTART:20281029T030000
RDATE:20290325T040000
TZOFFSETFROM:+0300
TZOFFSETTO:+0200
TZNAME:Europe/Tallinn EET
END:STANDARD
BEGIN:STANDARD
DTSTART:20291028T030000
RDATE:20300331T040000
TZOFFSETFROM:+0300
TZOFFSETTO:+0200
TZNAME:Europe/Tallinn EET
END:STANDARD
BEGIN:STANDARD
DTSTART:20301027T030000
RDATE:20310330T040000
TZOFFSETFROM:+0300
TZOFFSETTO:+0200
TZNAME:Europe/Tallinn EET
END:STANDARD
BEGIN:STANDARD
DTSTART:20311026T030000
RDATE:20320328T040000
TZOFFSETFROM:+0300
TZOFFSETTO:+0200
TZNAME:Europe/Tallinn EET
END:STANDARD
BEGIN:DAYLIGHT
DTSTART:20250330T040000
RDATE:20251026T030000
TZOFFSETFROM:+0200
TZOFFSETTO:+0300
TZNAME:Europe/Tallinn EEST
END:DAYLIGHT
BEGIN:DAYLIGHT
DTSTART:20260329T040000
RDATE:20261025T030000
TZOFFSETFROM:+0200
TZOFFSETTO:+0300
TZNAME:Europe/Tallinn EEST
END:DAYLIGHT
BEGIN:DAYLIGHT
DTSTART:20270328T040000
RDATE:20271031T030000
TZOFFSETFROM:+0200
TZOFFSETTO:+0300
TZNAME:Europe/Tallinn EEST
END:DAYLIGHT
BEGIN:DAYLIGHT
DTSTART:20280326T040000
RDATE:20281029T030000
TZOFFSETFROM:+0200
TZOFFSETTO:+0300
TZNAME:Europe/Tallinn EEST
END:DAYLIGHT
BEGIN:DAYLIGHT
DTSTART:20290325T040000
RDATE:20291028T030000
TZOFFSETFROM:+0200
TZOFFSETTO:+0300
TZNAME:Europe/Tallinn EEST
END:DAYLIGHT
BEGIN:DAYLIGHT
DTSTART:20300331T040000
RDATE:20301027T030000
TZOFFSETFROM:+0200
TZOFFSETTO:+0300
TZNAME:Europe/Tallinn EEST
END:DAYLIGHT
BEGIN:DAYLIGHT
DTSTART:20310330T040000
RDATE:20311026T030000
TZOFFSETFROM:+0200
TZOFFSETTO:+0300
TZNAME:Europe/Tallinn EEST
END:DAYLIGHT
END:VTIMEZONE
BEGIN:VEVENT
UID:4ede1a9db5d700e9a706d81ff2144473
CATEGORIES:Vaikimisi
CREATED:20250930T105240
SUMMARY:EHAS Kevadkonverents, II päeval toimub seltsi üldkogu koosolek
LOCATION:Pärnu
DESCRIPTION:<p>Eesti Haiglaapteekrite Seltsi traditsiooniline Kevadkonverents toimub se
 llel aastal 6.-7. märtsil Pärnus.</p><p>Konverentsi esimese päeva fookuses 
 on psühhiaatria ja vaimne tervis, konverentsi teine päev keskendub traditsi
 ooniliselt haiglafarmaatsia teemadele. Lisaks toimub teisel päeval<strong> 
 seltsi üldkogu</strong> koosolek (seltsi liikmetele).</p><p><strong>Kava 06
 . märts</strong></p><p>10:00 – 10:50 kogunemine, registreerimine, kohv</p><
 p>10:50 – 11:00 Sissejuhatus konverentsipäeva. Marko Urbala, seltsi juhatus
 e esimees</p><p>11:00 – 11:30 Eesti psühhiaatria hetkeseis. Anne Kleinberg,
  psühhiaater</p><p>11:40 – 12:10 Vaimse tervise õe roll Eesti tervishoius. 
 Laura Oisalu, vaimse tervise õde</p><p>12:20 – 12:50 Tahtest olenematu ravi
 . Ingrid Veiksar, psühhiaater</p><p>12:50 – 13:50 Lõuna</p><p>13:50 – 14:20
 &nbsp;<em>Off-label&nbsp;</em>ravimid psühhiaatrias. Raine Pilli, psühhiaat
 er</p><p>14:30 – 15:00 Neuromodulatsioon. Kristen Kase, psühhiaater</p><p>1
 5:00 – 15:30 Kohvipaus</p><p>15:30 – 16:00 Depressiooni ravi. Liis Haavistu
 , psühhiaater</p><p>16:10 – 16:40 Ärevus – normist patoloogiani. Elen Kihl,
  kliiniline psühholoog</p><p>16:50 – 17:20 Töötempo ja heaolu tasakaal – en
 esehoiu tööriistad. Laura Oisalu, vaimse tervise õde</p><p><strong>Kava 07.
  märts</strong></p><p>10:00-11:00 Eesti Haiglaapteekrite Seltsi kvaliteedij
 uhend: ülevaade apteekide hindamistulemustest. Kersti Teder</p><p>11:00-11:
 30 EHAS töörühmad: ülevaade senistest tegevustest ja plaanidest. Töörühmade
  esindajad</p><p>11:30-11:45 Haiglaapteekrite uurimustööd: EAHP kongressil 
 Eestit esindavad postrid. Autorid</p><p><strong>Seltsi liikmetele</strong><
 /p><p><em>11:50-13:00 EHAS üldkogu koosolek</em></p><p><em>Korraldajad jäta
 vad õiguse teha kavas muudatusi.</em></p><p><strong>Toimumise koht</strong>
 </p><p>Konverentsi esimene päev toimub Estonia SPA konverentsikeskuses, tei
 ne päev Rannahotellis. Õhtusöök ja majutus on Rannahotellis.</p><p><strong>
 Transport</strong></p><p>Registreerimisel andke teada oma transpordisoov. P
 iisava arvu soovijate korral planeerime transpordi Tallinna ja Tartu suunal
 t.</p><p><strong>Osalustasu</strong></p><p>Osalustasu EHAS liikmetele 150 e
 urot (sisaldab konverentsi kahe päeva osalust, majutust ja õhtusööki). Osal
 ustasu seltsi mitte kuuluvatele haiglaapteekritele 200 eur (sisaldab konver
 entsi kahe päeva osalust, majutust ja õhtusööki). Osalustasu ülejäänud terv
 ishoiutöötajatele 100 eur (sisaldab esimese konverentsipäeva osalust). Pens
 ionil olevatele ja mitte töötavatele seltsi liikmetele on osalemine tasuta.
 </p><p><strong>Palun registreeri osalemine hiljemalt 13. veebruariks</stron
 g>&nbsp;<a href="https://forms.office.com/e/P7ErCXN0n0">EHAS Kevadkonverent
 s (06-07.03.2026, Pärnu) – Fill out form</a></p>
DTSTAMP:20260421T130204
DTSTART;TZID=Europe/Tallinn;VALUE=DATE:20260306
DTEND;TZID=Europe/Tallinn;VALUE=DATE:20260308
SEQUENCE:0
TRANSP:OPAQUE
END:VEVENT
END:VCALENDAR