BEGIN:VCALENDAR
VERSION:2.0
PRODID:-//jEvents 2.0 for Joomla//EN
CALSCALE:GREGORIAN
METHOD:PUBLISH
BEGIN:VTIMEZONE
TZID:Europe/Tallinn
BEGIN:STANDARD
DTSTART:20251112T000000
RDATE:20260329T040000
TZOFFSETFROM:+0300
TZOFFSETTO:+0200
TZNAME:Europe/Tallinn EET
END:STANDARD
BEGIN:STANDARD
DTSTART:20261025T030000
RDATE:20270328T040000
TZOFFSETFROM:+0300
TZOFFSETTO:+0200
TZNAME:Europe/Tallinn EET
END:STANDARD
BEGIN:STANDARD
DTSTART:20271031T030000
RDATE:20280326T040000
TZOFFSETFROM:+0300
TZOFFSETTO:+0200
TZNAME:Europe/Tallinn EET
END:STANDARD
BEGIN:STANDARD
DTSTART:20281029T030000
RDATE:20290325T040000
TZOFFSETFROM:+0300
TZOFFSETTO:+0200
TZNAME:Europe/Tallinn EET
END:STANDARD
BEGIN:STANDARD
DTSTART:20291028T030000
RDATE:20300331T040000
TZOFFSETFROM:+0300
TZOFFSETTO:+0200
TZNAME:Europe/Tallinn EET
END:STANDARD
BEGIN:STANDARD
DTSTART:20301027T030000
RDATE:20310330T040000
TZOFFSETFROM:+0300
TZOFFSETTO:+0200
TZNAME:Europe/Tallinn EET
END:STANDARD
BEGIN:STANDARD
DTSTART:20311026T030000
RDATE:20320328T040000
TZOFFSETFROM:+0300
TZOFFSETTO:+0200
TZNAME:Europe/Tallinn EET
END:STANDARD
BEGIN:DAYLIGHT
DTSTART:20260329T040000
RDATE:20261025T030000
TZOFFSETFROM:+0200
TZOFFSETTO:+0300
TZNAME:Europe/Tallinn EEST
END:DAYLIGHT
BEGIN:DAYLIGHT
DTSTART:20270328T040000
RDATE:20271031T030000
TZOFFSETFROM:+0200
TZOFFSETTO:+0300
TZNAME:Europe/Tallinn EEST
END:DAYLIGHT
BEGIN:DAYLIGHT
DTSTART:20280326T040000
RDATE:20281029T030000
TZOFFSETFROM:+0200
TZOFFSETTO:+0300
TZNAME:Europe/Tallinn EEST
END:DAYLIGHT
BEGIN:DAYLIGHT
DTSTART:20290325T040000
RDATE:20291028T030000
TZOFFSETFROM:+0200
TZOFFSETTO:+0300
TZNAME:Europe/Tallinn EEST
END:DAYLIGHT
BEGIN:DAYLIGHT
DTSTART:20300331T040000
RDATE:20301027T030000
TZOFFSETFROM:+0200
TZOFFSETTO:+0300
TZNAME:Europe/Tallinn EEST
END:DAYLIGHT
BEGIN:DAYLIGHT
DTSTART:20310330T040000
RDATE:20311026T030000
TZOFFSETFROM:+0200
TZOFFSETTO:+0300
TZNAME:Europe/Tallinn EEST
END:DAYLIGHT
END:VTIMEZONE
BEGIN:VEVENT
UID:9390d5cfc64387b347401a61dbfd91d2
CATEGORIES:Vaikimisi
CREATED:20260421T075751
SUMMARY:EAHP BOOST 2026: All In four our patients
DESCRIPTION:Vaata täpsemat infot siit: https://eahp.eu/education/eahp-boost-2026/ (http
 s://eahp.eu/education/eahp-boost-2026/)\n
X-ALT-DESC;FMTTYPE=text/html:<p>Vaata täpsemat infot siit:&nbsp;<a href="https://eahp.eu/education/eahp-
 boost-2026/">https://eahp.eu/education/eahp-boost-2026/</a></p>
DTSTAMP:20260421T132707
DTSTART;TZID=Europe/Tallinn;VALUE=DATE:20261113
DTEND;TZID=Europe/Tallinn;VALUE=DATE:20261115
SEQUENCE:0
TRANSP:OPAQUE
END:VEVENT
END:VCALENDAR