BEGIN:VCALENDAR
VERSION:2.0
PRODID:-//jEvents 2.0 for Joomla//EN
CALSCALE:GREGORIAN
METHOD:PUBLISH
BEGIN:VTIMEZONE
TZID:Europe/Tallinn
BEGIN:STANDARD
DTSTART:20251026T030000
RDATE:20260329T040000
TZOFFSETFROM:+0300
TZOFFSETTO:+0200
TZNAME:Europe/Tallinn EET
END:STANDARD
BEGIN:STANDARD
DTSTART:20261025T030000
RDATE:20270328T040000
TZOFFSETFROM:+0300
TZOFFSETTO:+0200
TZNAME:Europe/Tallinn EET
END:STANDARD
BEGIN:STANDARD
DTSTART:20271031T030000
RDATE:20280326T040000
TZOFFSETFROM:+0300
TZOFFSETTO:+0200
TZNAME:Europe/Tallinn EET
END:STANDARD
BEGIN:STANDARD
DTSTART:20281029T030000
RDATE:20290325T040000
TZOFFSETFROM:+0300
TZOFFSETTO:+0200
TZNAME:Europe/Tallinn EET
END:STANDARD
BEGIN:STANDARD
DTSTART:20291028T030000
RDATE:20300331T040000
TZOFFSETFROM:+0300
TZOFFSETTO:+0200
TZNAME:Europe/Tallinn EET
END:STANDARD
BEGIN:STANDARD
DTSTART:20301027T030000
RDATE:20310330T040000
TZOFFSETFROM:+0300
TZOFFSETTO:+0200
TZNAME:Europe/Tallinn EET
END:STANDARD
BEGIN:STANDARD
DTSTART:20311026T030000
RDATE:20320328T040000
TZOFFSETFROM:+0300
TZOFFSETTO:+0200
TZNAME:Europe/Tallinn EET
END:STANDARD
BEGIN:DAYLIGHT
DTSTART:20250513T100000
RDATE:20251026T030000
TZOFFSETFROM:+0200
TZOFFSETTO:+0300
TZNAME:Europe/Tallinn EEST
END:DAYLIGHT
BEGIN:DAYLIGHT
DTSTART:20260329T040000
RDATE:20261025T030000
TZOFFSETFROM:+0200
TZOFFSETTO:+0300
TZNAME:Europe/Tallinn EEST
END:DAYLIGHT
BEGIN:DAYLIGHT
DTSTART:20270328T040000
RDATE:20271031T030000
TZOFFSETFROM:+0200
TZOFFSETTO:+0300
TZNAME:Europe/Tallinn EEST
END:DAYLIGHT
BEGIN:DAYLIGHT
DTSTART:20280326T040000
RDATE:20281029T030000
TZOFFSETFROM:+0200
TZOFFSETTO:+0300
TZNAME:Europe/Tallinn EEST
END:DAYLIGHT
BEGIN:DAYLIGHT
DTSTART:20290325T040000
RDATE:20291028T030000
TZOFFSETFROM:+0200
TZOFFSETTO:+0300
TZNAME:Europe/Tallinn EEST
END:DAYLIGHT
BEGIN:DAYLIGHT
DTSTART:20300331T040000
RDATE:20301027T030000
TZOFFSETFROM:+0200
TZOFFSETTO:+0300
TZNAME:Europe/Tallinn EEST
END:DAYLIGHT
BEGIN:DAYLIGHT
DTSTART:20310330T040000
RDATE:20311026T030000
TZOFFSETFROM:+0200
TZOFFSETTO:+0300
TZNAME:Europe/Tallinn EEST
END:DAYLIGHT
END:VTIMEZONE
BEGIN:VEVENT
UID:cd60c3d406d79661a5fd15c611d0d015
CATEGORIES:Vaikimisi
CREATED:20260421T075605
SUMMARY:EHAS teabepäev 14.05.2026
DESCRIPTION:Toimumise aeg: 14.05.2026\nToimumise koht: SA Põhja-Eesti Regionaalhaigla, 
 J. Sütiste tee 19, Tallinn.\nA-korpus, suur saal\nProgramm\n10:15-10:45 Kog
 unemine ja tervituskohv\n10:45-11:30 Piltdiagnostika ABC. dr. Indrek Koovit
 , Regionaalhaigla diagnostikakliiniku juhataja\n11:30-12:15 Meditsiinitehni
 kast inseneri pilguga. Annika Kaalep, Regionaalhaigla biomeditsiinitehnika 
 insener\n12:15-12:45 Ravimite tarneraskused – koostöö ja võimalused Ravimia
 meti vaatest. Anita Tuula, Ravimiameti sisse- ja väljaveo järelevalve büroo
  spetsialist\n12:45-13:30 Lõuna\n13:30-14:00 Radiofarmatseutikumide valmist
 amise eripärad. Mattias Moldau, Regionaalhaigla radiofarmaatsia proviisor\n
 14:00-14:15 Eesti oma tsüklotron. dr. Ilona Muoni, Regionaalhaigla radioloo
 g-ülemarst-osakonna juhataja\n14:15-14:45 Ravimite ühishankimine – kas ka ü
 hised väljakutsed? Eveli Bauer, Tervisekassa teenusejuht\n14:45-15:15 Peide
 tud aarded – ravimiregistri kasutusvõimalused. Mailis Eelmäe, Ravimiameti t
 ootomanik\n15:15-16:00 Tervisekassa e-ravimileht- homne reaalsus. Maris Vee
 rmäe, Tervisekassa ravimilahenduste tootejuht\nKoolitusel osalemine annab 6
  täienduskoolituspunkti.\nOsalemistasu seltsi liikmele 50 eur/mitte liikmel
 e 75 eur.\nPalun registreeri ennast hiljemalt 08.05.2026 siin EHAS koolitus
 päev (14.05.2026)\n
X-ALT-DESC;FMTTYPE=text/html:<p>Toimumise aeg: 14.05.2026<br />Toimumise koht: SA Põhja-Eesti Regionaalh
 aigla, J. Sütiste tee 19, Tallinn.<br />A-korpus, suur saal</p><p>Programm<
 br />10:15-10:45 Kogunemine ja tervituskohv<br />10:45-11:30 Piltdiagnostik
 a ABC. dr. Indrek Koovit, Regionaalhaigla diagnostikakliiniku juhataja<br /
 >11:30-12:15 Meditsiinitehnikast inseneri pilguga. Annika Kaalep, Regionaal
 haigla biomeditsiinitehnika insener<br />12:15-12:45 Ravimite tarneraskused
  – koostöö ja võimalused Ravimiameti vaatest. Anita Tuula, Ravimiameti siss
 e- ja väljaveo järelevalve büroo spetsialist<br />12:45-13:30 Lõuna<br />13
 :30-14:00 Radiofarmatseutikumide valmistamise eripärad. Mattias Moldau, Reg
 ionaalhaigla radiofarmaatsia proviisor<br />14:00-14:15 Eesti oma tsüklotro
 n. dr. Ilona Muoni, Regionaalhaigla radioloog-ülemarst-osakonna juhataja<br
  />14:15-14:45 Ravimite ühishankimine – kas ka ühised väljakutsed? Eveli Ba
 uer, Tervisekassa teenusejuht<br />14:45-15:15 Peidetud aarded – ravimiregi
 stri kasutusvõimalused. Mailis Eelmäe, Ravimiameti tootomanik<br />15:15-16
 :00 Tervisekassa e-ravimileht- homne reaalsus. Maris Veermäe, Tervisekassa 
 ravimilahenduste tootejuht</p><p>Koolitusel osalemine annab 6 täienduskooli
 tuspunkti.<br />Osalemistasu seltsi liikmele 50 eur/mitte liikmele 75 eur.<
 br />Palun registreeri ennast hiljemalt 08.05.2026 siin&nbsp;<a href="https
 ://forms.cloud.microsoft/pages/responsepage.aspx?id=KhlbuMDTLUKS6_fTyxJWuWg
 pjf-mGV5NvaM_Q6DUsM1UQkJJNVlUU04wNVQ4N0NaRU5KOU1TN1I2QS4u&amp;route=shortur
 l">EHAS koolituspäev (14.05.2026)</a></p>
DTSTAMP:20260421T120233
DTSTART;TZID=Europe/Tallinn:20260514T100000
DTEND;TZID=Europe/Tallinn:20260514T160000
SEQUENCE:0
TRANSP:OPAQUE
END:VEVENT
END:VCALENDAR